BEGIN:VCALENDAR
VERSION:2.0
PRODID:-//Thickies, LLC - ECPv6.15.18//NONSGML v1.0//EN
CALSCALE:GREGORIAN
METHOD:PUBLISH
X-ORIGINAL-URL:https://thickies.llc
X-WR-CALDESC:Events for Thickies, LLC
REFRESH-INTERVAL;VALUE=DURATION:PT1H
X-Robots-Tag:noindex
X-PUBLISHED-TTL:PT1H
BEGIN:VTIMEZONE
TZID:America/Los_Angeles
BEGIN:DAYLIGHT
TZOFFSETFROM:-0800
TZOFFSETTO:-0700
TZNAME:PDT
DTSTART:20230312T100000
END:DAYLIGHT
BEGIN:STANDARD
TZOFFSETFROM:-0700
TZOFFSETTO:-0800
TZNAME:PST
DTSTART:20231105T090000
END:STANDARD
BEGIN:DAYLIGHT
TZOFFSETFROM:-0800
TZOFFSETTO:-0700
TZNAME:PDT
DTSTART:20240310T100000
END:DAYLIGHT
BEGIN:STANDARD
TZOFFSETFROM:-0700
TZOFFSETTO:-0800
TZNAME:PST
DTSTART:20241103T090000
END:STANDARD
BEGIN:DAYLIGHT
TZOFFSETFROM:-0800
TZOFFSETTO:-0700
TZNAME:PDT
DTSTART:20250309T100000
END:DAYLIGHT
BEGIN:STANDARD
TZOFFSETFROM:-0700
TZOFFSETTO:-0800
TZNAME:PST
DTSTART:20251102T090000
END:STANDARD
END:VTIMEZONE
BEGIN:VTIMEZONE
TZID:UTC
BEGIN:STANDARD
TZOFFSETFROM:+0000
TZOFFSETTO:+0000
TZNAME:UTC
DTSTART:20230101T000000
END:STANDARD
END:VTIMEZONE
BEGIN:VEVENT
DTSTART;TZID=America/Los_Angeles:20241019T110000
DTEND;TZID=America/Los_Angeles:20241019T160000
DTSTAMP:20260420T050327
CREATED:20241015T011733Z
LAST-MODIFIED:20241015T011759Z
UID:1636-1729335600-1729353600@thickies.llc
SUMMARY:SoCo Market
DESCRIPTION:FREE EVENT
URL:https://thickies.llc/events/soco-market/
ATTACH;FMTTYPE=image/png:https://thickies.llc/wp-content/uploads/2024/10/SoCo-Flyer-1019.png
END:VEVENT
BEGIN:VEVENT
DTSTART;TZID=UTC:20240604T170000
DTEND;TZID=UTC:20240604T203000
DTSTAMP:20260420T050327
CREATED:20240507T070107Z
LAST-MODIFIED:20240524T024402Z
UID:1001-1717520400-1717533000@thickies.llc
SUMMARY:SMACKIN Soul Food
DESCRIPTION:Thickies will be at SMACKIN Soul Food every Tuesday. The available cookies are Mr. Solo Dolo\, The O.G.\, Reese Without Her Spoon\, Pump up the Jam\, and Doom.
URL:https://thickies.llc/events/smackin-soul-food/
LOCATION:Santa Rosa Veterans Memorial Building\, 1351 Maple Ave\, Santa Rosa\, California\, 95404\, United States
CATEGORIES:Market,Santa Rosa
ATTACH;FMTTYPE=image/jpeg:https://thickies.llc/wp-content/uploads/2024/05/441503404_18266870665228436_7015030183740839490_n.jpg
ORGANIZER;CN="SMACKIN Soul Food":MAILTO:smackin707@gmail.com
END:VEVENT
BEGIN:VEVENT
DTSTART;TZID=America/Los_Angeles:20240528T170000
DTEND;TZID=America/Los_Angeles:20240528T203000
DTSTAMP:20260420T050327
CREATED:20240520T000710Z
LAST-MODIFIED:20240521T205225Z
UID:1451-1716915600-1716928200@thickies.llc
SUMMARY:SMACKIN Soul Food
DESCRIPTION:Thickies will be at SMACKIN Soul Food every Tuesday. The available cookies are Mr. Solo Dolo\, The O.G.\, Reese Without Her Spoon\, Pump up the Jam\, and Doom.
URL:https://thickies.llc/events/smackin-soul-food-2/
LOCATION:Santa Rosa Veterans Memorial Building\, 1351 Maple Ave\, Santa Rosa\, California\, 95404\, United States
CATEGORIES:Market,Santa Rosa
ATTACH;FMTTYPE=image/jpeg:https://thickies.llc/wp-content/uploads/2024/05/441503404_18266870665228436_7015030183740839490_n.jpg
END:VEVENT
BEGIN:VEVENT
DTSTART;TZID=UTC:20240518T140000
DTEND;TZID=UTC:20240518T190000
DTSTAMP:20260420T050327
CREATED:20240507T064010Z
LAST-MODIFIED:20240507T064716Z
UID:991-1716040800-1716058800@thickies.llc
SUMMARY:North Bay Fashion Ball
DESCRIPTION:
URL:https://thickies.llc/events/north-bay-fashion-ball/
LOCATION:LAGUNITAS Petaluma\, 1280 N. McDowell Boulevard\, Petaluma\, California\, 94954\, United States
CATEGORIES:Petaluma
ATTACH;FMTTYPE=image/webp:https://thickies.llc/wp-content/uploads/2024/05/33ac82b4e8de7b7a04753a08db1aeaa397e35e8a9e6370968ec0d33e25338dea-rimg-w1200-h1422-dced3364-gmir.webp
END:VEVENT
BEGIN:VEVENT
DTSTART;TZID=UTC:20240505T110000
DTEND;TZID=UTC:20240505T170000
DTSTAMP:20260420T050327
CREATED:20240507T055109Z
LAST-MODIFIED:20240507T060328Z
UID:978-1714906800-1714928400@thickies.llc
SUMMARY:Fork'n Good
DESCRIPTION:
URL:https://thickies.llc/events/forkn-good/
LOCATION:SOMO Village\, 1400 Valley House Drive\, Rohnert Park\, California\, 94928\, United States
CATEGORIES:Festival,Rohnert Park
ATTACH;FMTTYPE=image/jpeg:https://thickies.llc/wp-content/uploads/2024/05/ForknIGFeed.jpg
END:VEVENT
BEGIN:VEVENT
DTSTART;TZID=UTC:20240503T150000
DTEND;TZID=UTC:20240503T190000
DTSTAMP:20260420T050327
CREATED:20240507T053143Z
LAST-MODIFIED:20240507T055858Z
UID:971-1714748400-1714762800@thickies.llc
SUMMARY:Doobie Nights- pre-Cino de Mayo
DESCRIPTION:
URL:https://thickies.llc/events/doobie-nights-pre-cino-de-mayo/
LOCATION:Doobie Nights\, 3011 Santa Rosa Ave Ste A\, Santa Rosa\, California\, 95407\, United States
CATEGORIES:Santa Rosa
END:VEVENT
BEGIN:VEVENT
DTSTART;TZID=UTC:20240428T100000
DTEND;TZID=UTC:20240428T150000
DTSTAMP:20260420T050327
CREATED:20240407T062657Z
LAST-MODIFIED:20240423T235939Z
UID:256-1714298400-1714316400@thickies.llc
SUMMARY:Craft and Vendor Faire
DESCRIPTION:Only the Doom and Return of the Mack will be available until sold out.
URL:https://thickies.llc/events/craft-and-vendor-faire-2/
LOCATION:Elks Lodge 901\, 2105 S McDowell Blvd\, Petaluma\, CA\, 94954\, United States
CATEGORIES:Fair,Petaluma
ATTACH;FMTTYPE=image/jpeg:https://thickies.llc/wp-content/uploads/2024/04/ElksCraftFaire-Flyer-Spring2024-sq-300x300-1.jpg
END:VEVENT
BEGIN:VEVENT
DTSTART;TZID=UTC:20240427T100000
DTEND;TZID=UTC:20240427T150000
DTSTAMP:20260420T050327
CREATED:20240407T061500Z
LAST-MODIFIED:20240424T024620Z
UID:248-1714212000-1714230000@thickies.llc
SUMMARY:Craft and Vendor Faire
DESCRIPTION:Only The O.G. and Mr. Solo Dolo will be available for sale at the event.
URL:https://thickies.llc/events/craft-and-vendor-faire/
LOCATION:Elks Lodge 901\, 2105 S McDowell Blvd\, Petaluma\, CA\, 94954\, United States
CATEGORIES:Fair,Petaluma
ATTACH;FMTTYPE=image/jpeg:https://thickies.llc/wp-content/uploads/2024/04/ElksCraftFaire-Flyer-Spring2024-sq-300x300-1.jpg
END:VEVENT
BEGIN:VEVENT
DTSTART;TZID=UTC:20240421T120000
DTEND;TZID=UTC:20240421T170000
DTSTAMP:20260420T050327
CREATED:20240407T060323Z
LAST-MODIFIED:20240407T060901Z
UID:241-1713700800-1713718800@thickies.llc
SUMMARY:Selena Tribute Mercado
DESCRIPTION:All cookies will be available for purchase until sold out.
URL:https://thickies.llc/events/selena-tribute-mercado/
LOCATION:Old Courthouse Square\, Old Courthouse Square\, Santa Rosa\, CA\, 95404\, United States
CATEGORIES:Fair,Santa Rosa
ATTACH;FMTTYPE=image/jpeg:https://thickies.llc/wp-content/uploads/2024/04/04.21.24-Vida-Cultural-Arts-Suenos-Market-Selena-Tribute_e45adf5f6bc0c5c2a30a39868f44eab6.jpg
END:VEVENT
BEGIN:VEVENT
DTSTART;TZID=UTC:20240420T100000
DTEND;TZID=UTC:20240420T170000
DTSTAMP:20260420T050327
CREATED:20240407T054518Z
LAST-MODIFIED:20240507T055417Z
UID:238-1713607200-1713632400@thickies.llc
SUMMARY:Butter and Egg Days 2024
DESCRIPTION:All cookies will be available to purchase.
URL:https://thickies.llc/events/butter-and-egg-days-2024/
LOCATION:Petaluma Blvd N\, B Street\, Petaluma Blvd N\, B Street\, Petaluma\, CA\, 94945\, United States
CATEGORIES:Festival,Petaluma
ATTACH;FMTTYPE=image/jpeg:https://thickies.llc/wp-content/uploads/2024/04/b-e-poster_2024_16x20_l-scaled.jpg
END:VEVENT
END:VCALENDAR